BEGIN:VCALENDAR
VERSION:2.0
PRODID:-//関東信越税理士会春日部支部 - ECPv6.15.11//NONSGML v1.0//EN
CALSCALE:GREGORIAN
METHOD:PUBLISH
X-WR-CALNAME:関東信越税理士会春日部支部
X-ORIGINAL-URL:https://kasuzei.jp
X-WR-CALDESC:関東信越税理士会春日部支部 のイベント
REFRESH-INTERVAL;VALUE=DURATION:PT1H
X-Robots-Tag:noindex
X-PUBLISHED-TTL:PT1H
BEGIN:VTIMEZONE
TZID:Asia/Tokyo
BEGIN:STANDARD
TZOFFSETFROM:+0900
TZOFFSETTO:+0900
TZNAME:JST
DTSTART:20220101T000000
END:STANDARD
END:VTIMEZONE
BEGIN:VEVENT
DTSTART;TZID=Asia/Tokyo:20230808T000000
DTEND;TZID=Asia/Tokyo:20230808T235959
DTSTAMP:20260420T060251
CREATED:20230815T101814Z
LAST-MODIFIED:20230815T102342Z
UID:718-1691452800-1691539199@kasuzei.jp
SUMMARY:支部例会
DESCRIPTION:開始時刻：13時30分\n備考：例会後に税務署との合同会議
URL:https://kasuzei.jp/event/%e6%94%af%e9%83%a8%e4%be%8b%e4%bc%9a/
LOCATION:春日部市中央公民館\, 粕壁6918-1\, 春日部市\, 埼玉県\, 344-0061\, 日本
END:VEVENT
END:VCALENDAR