BEGIN:VCALENDAR
VERSION:2.0
PRODID:-//関東信越税理士会春日部支部 - ECPv6.15.11//NONSGML v1.0//EN
CALSCALE:GREGORIAN
METHOD:PUBLISH
X-WR-CALNAME:関東信越税理士会春日部支部
X-ORIGINAL-URL:https://kasuzei.jp
X-WR-CALDESC:関東信越税理士会春日部支部 のイベント
REFRESH-INTERVAL;VALUE=DURATION:PT1H
X-Robots-Tag:noindex
X-PUBLISHED-TTL:PT1H
BEGIN:VTIMEZONE
TZID:Asia/Tokyo
BEGIN:STANDARD
TZOFFSETFROM:+0900
TZOFFSETTO:+0900
TZNAME:JST
DTSTART:20220101T000000
END:STANDARD
END:VTIMEZONE
BEGIN:VEVENT
DTSTART;TZID=Asia/Tokyo:20231101T000000
DTEND;TZID=Asia/Tokyo:20231101T235959
DTSTAMP:20260425T023552
CREATED:20230815T105511Z
LAST-MODIFIED:20230821T060357Z
UID:748-1698796800-1698883199@kasuzei.jp
SUMMARY:無料税務相談
DESCRIPTION:税理士による無料税務相談 \n詳細はこちら
URL:https://kasuzei.jp/event/%e7%84%a1%e6%96%99%e7%a8%8e%e5%8b%99%e7%9b%b8%e8%ab%87-11/
LOCATION:関東信越税理士会春日部支部税務相談所\, 南1-1-7 　東部地域振興ふれあい拠点施設5階\, 春日部市\, 埼玉県\, 344-0064\, 日本
END:VEVENT
BEGIN:VEVENT
DTSTART;TZID=Asia/Tokyo:20231102T000000
DTEND;TZID=Asia/Tokyo:20231102T235959
DTSTAMP:20260425T023552
CREATED:20230815T111441Z
LAST-MODIFIED:20230815T111441Z
UID:770-1698883200-1698969599@kasuzei.jp
SUMMARY:支部例会
DESCRIPTION:開始時刻：13時30分\n備考：
URL:https://kasuzei.jp/event/%e6%94%af%e9%83%a8%e4%be%8b%e4%bc%9a-4/
LOCATION:春日部市民文化会館\, 粕壁東２丁目８−６１\, 春日部市\, 埼玉県\, 344-0062\, 日本
END:VEVENT
BEGIN:VEVENT
DTSTART;TZID=Asia/Tokyo:20231108T000000
DTEND;TZID=Asia/Tokyo:20231108T235959
DTSTAMP:20260425T023552
CREATED:20230815T105530Z
LAST-MODIFIED:20230821T062854Z
UID:750-1699401600-1699487999@kasuzei.jp
SUMMARY:無料税務相談
DESCRIPTION:税理士による無料税務相談 \n詳細はこちら
URL:https://kasuzei.jp/event/%e7%84%a1%e6%96%99%e7%a8%8e%e5%8b%99%e7%9b%b8%e8%ab%87-12/
LOCATION:関東信越税理士会春日部支部税務相談所\, 南1-1-7 　東部地域振興ふれあい拠点施設5階\, 春日部市\, 埼玉県\, 344-0064\, 日本
END:VEVENT
BEGIN:VEVENT
DTSTART;TZID=Asia/Tokyo:20231115T000000
DTEND;TZID=Asia/Tokyo:20231115T235959
DTSTAMP:20260425T023552
CREATED:20230815T105628Z
LAST-MODIFIED:20230821T063023Z
UID:752-1700006400-1700092799@kasuzei.jp
SUMMARY:無料税務相談
DESCRIPTION:税理士による無料税務相談 \n詳細はこちら
URL:https://kasuzei.jp/event/%e7%84%a1%e6%96%99%e7%a8%8e%e5%8b%99%e7%9b%b8%e8%ab%87-13/
LOCATION:関東信越税理士会春日部支部税務相談所\, 南1-1-7 　東部地域振興ふれあい拠点施設5階\, 春日部市\, 埼玉県\, 344-0064\, 日本
END:VEVENT
BEGIN:VEVENT
DTSTART;TZID=Asia/Tokyo:20231122T000000
DTEND;TZID=Asia/Tokyo:20231122T235959
DTSTAMP:20260425T023552
CREATED:20230815T105641Z
LAST-MODIFIED:20230821T063315Z
UID:754-1700611200-1700697599@kasuzei.jp
SUMMARY:無料税務相談
DESCRIPTION:税理士による無料税務相談 \n詳細はこちら
URL:https://kasuzei.jp/event/%e7%84%a1%e6%96%99%e7%a8%8e%e5%8b%99%e7%9b%b8%e8%ab%87-14/
LOCATION:関東信越税理士会春日部支部税務相談所\, 南1-1-7 　東部地域振興ふれあい拠点施設5階\, 春日部市\, 埼玉県\, 344-0064\, 日本
END:VEVENT
BEGIN:VEVENT
DTSTART;TZID=Asia/Tokyo:20231129T000000
DTEND;TZID=Asia/Tokyo:20231129T235959
DTSTAMP:20260425T023552
CREATED:20230815T105657Z
LAST-MODIFIED:20230821T063127Z
UID:756-1701216000-1701302399@kasuzei.jp
SUMMARY:無料税務相談
DESCRIPTION:税理士による無料税務相談 \n詳細はこちら
URL:https://kasuzei.jp/event/%e7%84%a1%e6%96%99%e7%a8%8e%e5%8b%99%e7%9b%b8%e8%ab%87-15/
LOCATION:関東信越税理士会春日部支部税務相談所\, 南1-1-7 　東部地域振興ふれあい拠点施設5階\, 春日部市\, 埼玉県\, 344-0064\, 日本
END:VEVENT
END:VCALENDAR