BEGIN:VCALENDAR
VERSION:2.0
PRODID:-//関東信越税理士会春日部支部 - ECPv6.15.11//NONSGML v1.0//EN
CALSCALE:GREGORIAN
METHOD:PUBLISH
X-ORIGINAL-URL:https://kasuzei.jp
X-WR-CALDESC:関東信越税理士会春日部支部 のイベント
REFRESH-INTERVAL;VALUE=DURATION:PT1H
X-Robots-Tag:noindex
X-PUBLISHED-TTL:PT1H
BEGIN:VTIMEZONE
TZID:Asia/Tokyo
BEGIN:STANDARD
TZOFFSETFROM:+0900
TZOFFSETTO:+0900
TZNAME:JST
DTSTART:20230101T000000
END:STANDARD
END:VTIMEZONE
BEGIN:VEVENT
DTSTART;TZID=Asia/Tokyo:20240604T000000
DTEND;TZID=Asia/Tokyo:20240604T235959
DTSTAMP:20260422T143321
CREATED:20240131T073032Z
LAST-MODIFIED:20240131T073032Z
UID:1396-1717459200-1717545599@kasuzei.jp
SUMMARY:支部例会
DESCRIPTION:開始時刻：13時30分
URL:https://kasuzei.jp/event/%e6%94%af%e9%83%a8%e4%be%8b%e4%bc%9a-10/
LOCATION:埼玉県
END:VEVENT
BEGIN:VEVENT
DTSTART;TZID=Asia/Tokyo:20240605T000000
DTEND;TZID=Asia/Tokyo:20240605T235959
DTSTAMP:20260422T143321
CREATED:20231005T033118Z
LAST-MODIFIED:20231005T033118Z
UID:1048-1717545600-1717631999@kasuzei.jp
SUMMARY:無料税務相談
DESCRIPTION:税理士による無料税務相談 \n詳細はこちら
URL:https://kasuzei.jp/event/%e7%84%a1%e6%96%99%e7%a8%8e%e5%8b%99%e7%9b%b8%e8%ab%87-34/
LOCATION:関東信越税理士会春日部支部税務相談所\, 南1-1-7 　東部地域振興ふれあい拠点施設5階\, 春日部市\, 埼玉県\, 344-0064\, 日本
END:VEVENT
BEGIN:VEVENT
DTSTART;TZID=Asia/Tokyo:20240612T000000
DTEND;TZID=Asia/Tokyo:20240612T235959
DTSTAMP:20260422T143321
CREATED:20231005T033141Z
LAST-MODIFIED:20231005T033141Z
UID:1050-1718150400-1718236799@kasuzei.jp
SUMMARY:無料税務相談
DESCRIPTION:税理士による無料税務相談 \n詳細はこちら
URL:https://kasuzei.jp/event/%e7%84%a1%e6%96%99%e7%a8%8e%e5%8b%99%e7%9b%b8%e8%ab%87-35/
LOCATION:関東信越税理士会春日部支部税務相談所\, 南1-1-7 　東部地域振興ふれあい拠点施設5階\, 春日部市\, 埼玉県\, 344-0064\, 日本
END:VEVENT
BEGIN:VEVENT
DTSTART;TZID=Asia/Tokyo:20240614T000000
DTEND;TZID=Asia/Tokyo:20240614T235959
DTSTAMP:20260422T143321
CREATED:20240510T084502Z
LAST-MODIFIED:20240510T084502Z
UID:1548-1718323200-1718409599@kasuzei.jp
SUMMARY:支部総会
DESCRIPTION:開始時刻：15時30分
URL:https://kasuzei.jp/event/%e6%94%af%e9%83%a8%e7%b7%8f%e4%bc%9a-2/
LOCATION:東部地域振興ふれあい拠点施設\, 南1-1-7\, 春日部市\, 埼玉県\, 日本
END:VEVENT
BEGIN:VEVENT
DTSTART;TZID=Asia/Tokyo:20240619T000000
DTEND;TZID=Asia/Tokyo:20240619T235959
DTSTAMP:20260422T143321
CREATED:20231005T033157Z
LAST-MODIFIED:20231005T033157Z
UID:1052-1718755200-1718841599@kasuzei.jp
SUMMARY:無料税務相談
DESCRIPTION:税理士による無料税務相談 \n詳細はこちら
URL:https://kasuzei.jp/event/%e7%84%a1%e6%96%99%e7%a8%8e%e5%8b%99%e7%9b%b8%e8%ab%87-36/
LOCATION:関東信越税理士会春日部支部税務相談所\, 南1-1-7 　東部地域振興ふれあい拠点施設5階\, 春日部市\, 埼玉県\, 344-0064\, 日本
END:VEVENT
BEGIN:VEVENT
DTSTART;TZID=Asia/Tokyo:20240626T000000
DTEND;TZID=Asia/Tokyo:20240626T235959
DTSTAMP:20260422T143321
CREATED:20231005T033214Z
LAST-MODIFIED:20231005T033214Z
UID:1054-1719360000-1719446399@kasuzei.jp
SUMMARY:無料税務相談
DESCRIPTION:税理士による無料税務相談 \n詳細はこちら
URL:https://kasuzei.jp/event/%e7%84%a1%e6%96%99%e7%a8%8e%e5%8b%99%e7%9b%b8%e8%ab%87-37/
LOCATION:関東信越税理士会春日部支部税務相談所\, 南1-1-7 　東部地域振興ふれあい拠点施設5階\, 春日部市\, 埼玉県\, 344-0064\, 日本
END:VEVENT
END:VCALENDAR