BEGIN:VCALENDAR
VERSION:2.0
PRODID:-//関東信越税理士会春日部支部 - ECPv6.15.11//NONSGML v1.0//EN
CALSCALE:GREGORIAN
METHOD:PUBLISH
X-WR-CALNAME:関東信越税理士会春日部支部
X-ORIGINAL-URL:https://kasuzei.jp
X-WR-CALDESC:関東信越税理士会春日部支部 のイベント
REFRESH-INTERVAL;VALUE=DURATION:PT1H
X-Robots-Tag:noindex
X-PUBLISHED-TTL:PT1H
BEGIN:VTIMEZONE
TZID:Asia/Tokyo
BEGIN:STANDARD
TZOFFSETFROM:+0900
TZOFFSETTO:+0900
TZNAME:JST
DTSTART:20230101T000000
END:STANDARD
END:VTIMEZONE
BEGIN:VEVENT
DTSTART;TZID=Asia/Tokyo:20240904T000000
DTEND;TZID=Asia/Tokyo:20240904T235959
DTSTAMP:20260422T094338
CREATED:20231005T033529Z
LAST-MODIFIED:20231005T033529Z
UID:1072-1725408000-1725494399@kasuzei.jp
SUMMARY:無料税務相談
DESCRIPTION:税理士による無料税務相談 \n詳細はこちら
URL:https://kasuzei.jp/event/%e7%84%a1%e6%96%99%e7%a8%8e%e5%8b%99%e7%9b%b8%e8%ab%87-46/
LOCATION:関東信越税理士会春日部支部税務相談所\, 南1-1-7 　東部地域振興ふれあい拠点施設5階\, 春日部市\, 埼玉県\, 344-0064\, 日本
END:VEVENT
BEGIN:VEVENT
DTSTART;TZID=Asia/Tokyo:20240910T000000
DTEND;TZID=Asia/Tokyo:20240910T235959
DTSTAMP:20260422T094338
CREATED:20240510T084024Z
LAST-MODIFIED:20240510T093228Z
UID:1542-1725926400-1726012799@kasuzei.jp
SUMMARY:支部例会
DESCRIPTION:開始時刻：13時30分
URL:https://kasuzei.jp/event/%e6%94%af%e9%83%a8%e4%be%8b%e4%bc%9a-12/
LOCATION:春日部市中央公民館\, 粕壁6918-1\, 春日部市\, 埼玉県\, 344-0061\, 日本
END:VEVENT
BEGIN:VEVENT
DTSTART;TZID=Asia/Tokyo:20240911T000000
DTEND;TZID=Asia/Tokyo:20240911T235959
DTSTAMP:20260422T094338
CREATED:20231005T033550Z
LAST-MODIFIED:20231005T033550Z
UID:1074-1726012800-1726099199@kasuzei.jp
SUMMARY:無料税務相談
DESCRIPTION:税理士による無料税務相談 \n詳細はこちら
URL:https://kasuzei.jp/event/%e7%84%a1%e6%96%99%e7%a8%8e%e5%8b%99%e7%9b%b8%e8%ab%87-47/
LOCATION:関東信越税理士会春日部支部税務相談所\, 南1-1-7 　東部地域振興ふれあい拠点施設5階\, 春日部市\, 埼玉県\, 344-0064\, 日本
END:VEVENT
BEGIN:VEVENT
DTSTART;TZID=Asia/Tokyo:20240918T000000
DTEND;TZID=Asia/Tokyo:20240918T235959
DTSTAMP:20260422T094338
CREATED:20231005T033609Z
LAST-MODIFIED:20231005T033609Z
UID:1076-1726617600-1726703999@kasuzei.jp
SUMMARY:無料税務相談
DESCRIPTION:税理士による無料税務相談 \n詳細はこちら
URL:https://kasuzei.jp/event/%e7%84%a1%e6%96%99%e7%a8%8e%e5%8b%99%e7%9b%b8%e8%ab%87-48/
LOCATION:関東信越税理士会春日部支部税務相談所\, 南1-1-7 　東部地域振興ふれあい拠点施設5階\, 春日部市\, 埼玉県\, 344-0064\, 日本
END:VEVENT
BEGIN:VEVENT
DTSTART;TZID=Asia/Tokyo:20240925T000000
DTEND;TZID=Asia/Tokyo:20240925T235959
DTSTAMP:20260422T094338
CREATED:20231005T033634Z
LAST-MODIFIED:20231005T033634Z
UID:1078-1727222400-1727308799@kasuzei.jp
SUMMARY:無料税務相談
DESCRIPTION:税理士による無料税務相談 \n詳細はこちら
URL:https://kasuzei.jp/event/%e7%84%a1%e6%96%99%e7%a8%8e%e5%8b%99%e7%9b%b8%e8%ab%87-49/
LOCATION:関東信越税理士会春日部支部税務相談所\, 南1-1-7 　東部地域振興ふれあい拠点施設5階\, 春日部市\, 埼玉県\, 344-0064\, 日本
END:VEVENT
END:VCALENDAR