BEGIN:VCALENDAR
VERSION:2.0
PRODID:-//関東信越税理士会春日部支部 - ECPv6.15.11//NONSGML v1.0//EN
CALSCALE:GREGORIAN
METHOD:PUBLISH
X-ORIGINAL-URL:https://kasuzei.jp
X-WR-CALDESC:関東信越税理士会春日部支部 のイベント
REFRESH-INTERVAL;VALUE=DURATION:PT1H
X-Robots-Tag:noindex
X-PUBLISHED-TTL:PT1H
BEGIN:VTIMEZONE
TZID:Asia/Tokyo
BEGIN:STANDARD
TZOFFSETFROM:+0900
TZOFFSETTO:+0900
TZNAME:JST
DTSTART:20240101T000000
END:STANDARD
END:VTIMEZONE
BEGIN:VEVENT
DTSTART;TZID=Asia/Tokyo:20250115T000000
DTEND;TZID=Asia/Tokyo:20250115T235959
DTSTAMP:20260422T032921
CREATED:20240925T004627Z
LAST-MODIFIED:20250529T131128Z
UID:1838-1736899200-1736985599@kasuzei.jp
SUMMARY:支部例会
DESCRIPTION:開始時刻：15時30分\n備考：例会後に新年賀詞交歓会
URL:https://kasuzei.jp/event/%e6%94%af%e9%83%a8%e4%be%8b%e4%bc%9a-15/
LOCATION:東部地域振興ふれあい拠点施設\, 南1-1-7\, 春日部市\, 埼玉県\, 日本
END:VEVENT
BEGIN:VEVENT
DTSTART;TZID=Asia/Tokyo:20250122T000000
DTEND;TZID=Asia/Tokyo:20250122T235959
DTSTAMP:20260422T032921
CREATED:20240920T002147Z
LAST-MODIFIED:20240920T002147Z
UID:1748-1737504000-1737590399@kasuzei.jp
SUMMARY:無料税務相談
DESCRIPTION:税理士による無料税務相談 \n詳細はこちら
URL:https://kasuzei.jp/event/%e7%84%a1%e6%96%99%e7%a8%8e%e5%8b%99%e7%9b%b8%e8%ab%87-61/
LOCATION:関東信越税理士会春日部支部税務相談所\, 南1-1-7 　東部地域振興ふれあい拠点施設5階\, 春日部市\, 埼玉県\, 344-0064\, 日本
END:VEVENT
BEGIN:VEVENT
DTSTART;TZID=Asia/Tokyo:20250129T000000
DTEND;TZID=Asia/Tokyo:20250129T235959
DTSTAMP:20260422T032921
CREATED:20240920T002226Z
LAST-MODIFIED:20240920T002226Z
UID:1750-1738108800-1738195199@kasuzei.jp
SUMMARY:無料税務相談
DESCRIPTION:税理士による無料税務相談 \n詳細はこちら
URL:https://kasuzei.jp/event/%e7%84%a1%e6%96%99%e7%a8%8e%e5%8b%99%e7%9b%b8%e8%ab%87-62/
LOCATION:関東信越税理士会春日部支部税務相談所\, 南1-1-7 　東部地域振興ふれあい拠点施設5階\, 春日部市\, 埼玉県\, 344-0064\, 日本
END:VEVENT
END:VCALENDAR