BEGIN:VCALENDAR
VERSION:2.0
PRODID:-//関東信越税理士会春日部支部 - ECPv6.15.11//NONSGML v1.0//EN
CALSCALE:GREGORIAN
METHOD:PUBLISH
X-WR-CALNAME:関東信越税理士会春日部支部
X-ORIGINAL-URL:https://kasuzei.jp
X-WR-CALDESC:関東信越税理士会春日部支部 のイベント
REFRESH-INTERVAL;VALUE=DURATION:PT1H
X-Robots-Tag:noindex
X-PUBLISHED-TTL:PT1H
BEGIN:VTIMEZONE
TZID:Asia/Tokyo
BEGIN:STANDARD
TZOFFSETFROM:+0900
TZOFFSETTO:+0900
TZNAME:JST
DTSTART:20240101T000000
END:STANDARD
END:VTIMEZONE
BEGIN:VEVENT
DTSTART;TZID=Asia/Tokyo:20250204T000000
DTEND;TZID=Asia/Tokyo:20250204T235959
DTSTAMP:20260422T014637
CREATED:20250120T053921Z
LAST-MODIFIED:20250120T053921Z
UID:2045-1738627200-1738713599@kasuzei.jp
SUMMARY:確定申告研修会（ウェブ配信）
DESCRIPTION:
URL:https://kasuzei.jp/event/%e7%a2%ba%e5%ae%9a%e7%94%b3%e5%91%8a%e7%a0%94%e4%bf%ae%e4%bc%9a%ef%bc%88%e3%82%a6%e3%82%a7%e3%83%96%e9%85%8d%e4%bf%a1%ef%bc%89/
LOCATION:埼玉県
END:VEVENT
BEGIN:VEVENT
DTSTART;TZID=Asia/Tokyo:20250212T000000
DTEND;TZID=Asia/Tokyo:20250212T235959
DTSTAMP:20260422T014637
CREATED:20240924T072809Z
LAST-MODIFIED:20240924T072809Z
UID:1756-1739318400-1739404799@kasuzei.jp
SUMMARY:無料税務相談
DESCRIPTION:税理士による無料税務相談 \n詳細はこちら
URL:https://kasuzei.jp/event/%e7%84%a1%e6%96%99%e7%a8%8e%e5%8b%99%e7%9b%b8%e8%ab%87-63/
LOCATION:関東信越税理士会春日部支部税務相談所\, 南1-1-7 　東部地域振興ふれあい拠点施設5階\, 春日部市\, 埼玉県\, 344-0064\, 日本
END:VEVENT
BEGIN:VEVENT
DTSTART;TZID=Asia/Tokyo:20250219T000000
DTEND;TZID=Asia/Tokyo:20250219T235959
DTSTAMP:20260422T014637
CREATED:20240924T072906Z
LAST-MODIFIED:20240924T072906Z
UID:1758-1739923200-1740009599@kasuzei.jp
SUMMARY:無料税務相談
DESCRIPTION:税理士による無料税務相談 \n詳細はこちら
URL:https://kasuzei.jp/event/%e7%84%a1%e6%96%99%e7%a8%8e%e5%8b%99%e7%9b%b8%e8%ab%87-64/
LOCATION:関東信越税理士会春日部支部税務相談所\, 南1-1-7 　東部地域振興ふれあい拠点施設5階\, 春日部市\, 埼玉県\, 344-0064\, 日本
END:VEVENT
BEGIN:VEVENT
DTSTART;TZID=Asia/Tokyo:20250226T000000
DTEND;TZID=Asia/Tokyo:20250226T235959
DTSTAMP:20260422T014637
CREATED:20240924T072924Z
LAST-MODIFIED:20240924T072924Z
UID:1760-1740528000-1740614399@kasuzei.jp
SUMMARY:無料税務相談
DESCRIPTION:税理士による無料税務相談 \n詳細はこちら
URL:https://kasuzei.jp/event/%e7%84%a1%e6%96%99%e7%a8%8e%e5%8b%99%e7%9b%b8%e8%ab%87-65/
LOCATION:関東信越税理士会春日部支部税務相談所\, 南1-1-7 　東部地域振興ふれあい拠点施設5階\, 春日部市\, 埼玉県\, 344-0064\, 日本
END:VEVENT
END:VCALENDAR