BEGIN:VCALENDAR
VERSION:2.0
PRODID:-//関東信越税理士会春日部支部 - ECPv6.15.11//NONSGML v1.0//EN
CALSCALE:GREGORIAN
METHOD:PUBLISH
X-WR-CALNAME:関東信越税理士会春日部支部
X-ORIGINAL-URL:https://kasuzei.jp
X-WR-CALDESC:関東信越税理士会春日部支部 のイベント
REFRESH-INTERVAL;VALUE=DURATION:PT1H
X-Robots-Tag:noindex
X-PUBLISHED-TTL:PT1H
BEGIN:VTIMEZONE
TZID:Asia/Tokyo
BEGIN:STANDARD
TZOFFSETFROM:+0900
TZOFFSETTO:+0900
TZNAME:JST
DTSTART:20240101T000000
END:STANDARD
END:VTIMEZONE
BEGIN:VEVENT
DTSTART;TZID=Asia/Tokyo:20250402T000000
DTEND;TZID=Asia/Tokyo:20250402T235959
DTSTAMP:20260421T230600
CREATED:20240924T073048Z
LAST-MODIFIED:20240924T073048Z
UID:1768-1743552000-1743638399@kasuzei.jp
SUMMARY:無料税務相談
DESCRIPTION:税理士による無料税務相談 \n詳細はこちら
URL:https://kasuzei.jp/event/%e7%84%a1%e6%96%99%e7%a8%8e%e5%8b%99%e7%9b%b8%e8%ab%87-69/
LOCATION:関東信越税理士会春日部支部税務相談所\, 南1-1-7 　東部地域振興ふれあい拠点施設5階\, 春日部市\, 埼玉県\, 344-0064\, 日本
END:VEVENT
BEGIN:VEVENT
DTSTART;TZID=Asia/Tokyo:20250409T000000
DTEND;TZID=Asia/Tokyo:20250409T235959
DTSTAMP:20260421T230600
CREATED:20240924T073122Z
LAST-MODIFIED:20240924T073122Z
UID:1772-1744156800-1744243199@kasuzei.jp
SUMMARY:無料税務相談
DESCRIPTION:税理士による無料税務相談 \n詳細はこちら
URL:https://kasuzei.jp/event/%e7%84%a1%e6%96%99%e7%a8%8e%e5%8b%99%e7%9b%b8%e8%ab%87-71/
LOCATION:関東信越税理士会春日部支部税務相談所\, 南1-1-7 　東部地域振興ふれあい拠点施設5階\, 春日部市\, 埼玉県\, 344-0064\, 日本
END:VEVENT
BEGIN:VEVENT
DTSTART;TZID=Asia/Tokyo:20250416T000000
DTEND;TZID=Asia/Tokyo:20250416T235959
DTSTAMP:20260421T230600
CREATED:20240924T073105Z
LAST-MODIFIED:20240924T073211Z
UID:1770-1744761600-1744847999@kasuzei.jp
SUMMARY:無料税務相談
DESCRIPTION:税理士による無料税務相談 \n詳細はこちら
URL:https://kasuzei.jp/event/%e7%84%a1%e6%96%99%e7%a8%8e%e5%8b%99%e7%9b%b8%e8%ab%87-70/
LOCATION:関東信越税理士会春日部支部税務相談所\, 南1-1-7 　東部地域振興ふれあい拠点施設5階\, 春日部市\, 埼玉県\, 344-0064\, 日本
END:VEVENT
BEGIN:VEVENT
DTSTART;TZID=Asia/Tokyo:20250423T000000
DTEND;TZID=Asia/Tokyo:20250423T235959
DTSTAMP:20260421T230600
CREATED:20240924T073238Z
LAST-MODIFIED:20240924T073238Z
UID:1774-1745366400-1745452799@kasuzei.jp
SUMMARY:無料税務相談
DESCRIPTION:税理士による無料税務相談 \n詳細はこちら
URL:https://kasuzei.jp/event/%e7%84%a1%e6%96%99%e7%a8%8e%e5%8b%99%e7%9b%b8%e8%ab%87-72/
LOCATION:関東信越税理士会春日部支部税務相談所\, 南1-1-7 　東部地域振興ふれあい拠点施設5階\, 春日部市\, 埼玉県\, 344-0064\, 日本
END:VEVENT
BEGIN:VEVENT
DTSTART;TZID=Asia/Tokyo:20250430T000000
DTEND;TZID=Asia/Tokyo:20250430T235959
DTSTAMP:20260421T230600
CREATED:20240924T073255Z
LAST-MODIFIED:20240924T073255Z
UID:1776-1745971200-1746057599@kasuzei.jp
SUMMARY:無料税務相談
DESCRIPTION:税理士による無料税務相談 \n詳細はこちら
URL:https://kasuzei.jp/event/%e7%84%a1%e6%96%99%e7%a8%8e%e5%8b%99%e7%9b%b8%e8%ab%87-73/
LOCATION:関東信越税理士会春日部支部税務相談所\, 南1-1-7 　東部地域振興ふれあい拠点施設5階\, 春日部市\, 埼玉県\, 344-0064\, 日本
END:VEVENT
END:VCALENDAR